BEGIN:VCALENDAR
VERSION:2.0
PRODID:-//wp-events-plugin.com//7.0.5//EN
TZID:America/Los_Angeles
X-WR-TIMEZONE:America/Los_Angeles
BEGIN:VEVENT
UID:801@onc-pdx.org
DTSTART;TZID=America/Los_Angeles:20201201T190000
DTEND;TZID=America/Los_Angeles:20201201T210000
DTSTAMP:20201130T024728Z
URL:https://onc-pdx.org/events/december-meeting-bike-and-barge-in-the-neth
 erlands/
SUMMARY:December Meeting: Bike and Barge in the Netherlands
DESCRIPTION:ONC-PDX Monthly Meeting\nBike and Barge in the Netherlands\n\nW
 hen: Tuesday December 1st\, 7pm – 9pm. 7pm members share about skiing\, 
 7:30 pm program. \nWhere: Zoom! Members will receive the link by email\n\
 nIn May 2019 Catherine and Tim Keith signed up for a 2-week guided bike an
 d barge tour in the Netherlands.  During the days they biked while the ba
 rge traveled to the next overnight stop. They enjoyed breakfast and dinner
  on the barge and packed a lunch each morning to take with them on their r
 ides.  They covered a surprisingly large area of the Netherlands\, biking
  40-65 kilometers (25-40 miles) a day through the picturesque countryside\
 , visiting castles\, national parks\, museums\, palace gardens\, small vil
 lages and ancient towns. In addition to wonderful pictures\, Catherine and
  Tim will share what they liked and did not like about this type of guided
  tour vs. self-guided cycling tours\, and some specifics to look for in a 
 bike and barge tour. Hope to see you online!\n\nP.S. We will open 30 minut
 es early (7 pm) for people to share about recent ski experiences and share
  ideas for places to ski.\n\nProgram Flier (Download)\n\n
CATEGORIES:Meeting
END:VEVENT
BEGIN:VTIMEZONE
TZID:America/Los_Angeles
X-LIC-LOCATION:America/Los_Angeles
BEGIN:STANDARD
DTSTART:20201101T010000
TZOFFSETFROM:-0700
TZOFFSETTO:-0800
TZNAME:PST
END:STANDARD
END:VTIMEZONE
END:VCALENDAR