BEGIN:VCALENDAR
VERSION:2.0
PRODID:-//wp-events-plugin.com//7.0.5//EN
TZID:America/Los_Angeles
X-WR-TIMEZONE:America/Los_Angeles
BEGIN:VEVENT
UID:740@onc-pdx.org
DTSTART;TZID=America/Los_Angeles:20210601T085000
DTEND;TZID=America/Los_Angeles:20210601T163000
DTSTAMP:20210809T152301Z
URL:https://onc-pdx.org/events/day-event-template/
SUMMARY:Day Event Template
DESCRIPTION:Text goes here describing the event purpose and any other detai
 ls.
CATEGORIES:Cross Country Ski
END:VEVENT
BEGIN:VTIMEZONE
TZID:America/Los_Angeles
X-LIC-LOCATION:America/Los_Angeles
BEGIN:DAYLIGHT
DTSTART:20210314T030000
TZOFFSETFROM:-0800
TZOFFSETTO:-0700
TZNAME:PDT
END:DAYLIGHT
END:VTIMEZONE
END:VCALENDAR