BEGIN:VCALENDAR
VERSION:2.0
PRODID:-//wp-events-plugin.com//7.0.5//EN
TZID:America/Los_Angeles
X-WR-TIMEZONE:America/Los_Angeles
BEGIN:VEVENT
UID:826@onc-pdx.org
DTSTART;TZID=America/Los_Angeles:20220223T083000
DTEND;TZID=America/Los_Angeles:20220223T170000
DTSTAMP:20220214T051624Z
URL:https://onc-pdx.org/events/day-event-template-2/
SUMMARY:Wednesday Ski Tour\, 23rd February
DESCRIPTION:This Wednesday's Day Tour will be led by Mary Green. Most likel
 y it will be somewhere around Mt Hood\; the exact destination and length w
 ith depend on snow conditions. Yellow Jacket Trail\, Pocket Creek\, Bennet
  Pass\, Inspiration Point Loop\, West Leg to the Nordic Bypass\, and the t
 rails around Government Camp are all likely destinations. Mt Adams is also
  a possibility. Modest descending skills are likely to be required\, but n
 othing advanced.\n\nContact Mary in advance for more details: ‭(503) 244
 -5268‬ (voice &amp\; text message) or maryagreen@comcast.net
CATEGORIES:Day Tours
END:VEVENT
BEGIN:VTIMEZONE
TZID:America/Los_Angeles
X-LIC-LOCATION:America/Los_Angeles
BEGIN:STANDARD
DTSTART:20211107T010000
TZOFFSETFROM:-0700
TZOFFSETTO:-0800
TZNAME:PST
END:STANDARD
END:VTIMEZONE
END:VCALENDAR