BEGIN:VCALENDAR
VERSION:2.0
PRODID:-//wp-events-plugin.com//7.0.5//EN
TZID:America/Los_Angeles
X-WR-TIMEZONE:America/Los_Angeles
BEGIN:VEVENT
UID:26@onc-pdx.org
DTSTART;TZID=America/Los_Angeles;VALUE=DATE:20150227
DTEND;TZID=America/Los_Angeles;VALUE=DATE:20150302
DTSTAMP:20150217T182012Z
URL:https://onc-pdx.org/events/crater-lake-via-charter-bus/
SUMMARY:Crater Lake via charter bus
DESCRIPTION:Experience One of the Seven Wonders of Oregon on Skis or Snowsh
 oes\, and Without Crowds!Signup by February 15The Crater Lake rim\, at 7\,
 000 feet\, averages 44 feet of snow a year. Join the ONC for the big trip 
 at Crater Lake. We’ll board the deluxe coach at noon (this is a new depa
 rture time) in Portland on Friday and proceed down I-5 while sharing in th
 e world famous “Rolling Pot-Luck.”  We will arrive in Prospect at aro
 und 6 pm\, giving you time to enjoy your room in the historic Prospect Hot
 el.  The next morning\, after a hearty gourmet breakfast at the hotel\, w
 e will take a quick ride to the rim  where we’ll spend the day enjoying
  the spectacular snow formations and views of the lake and surrounding mou
 ntains while skiing as far as our legs can carry us. Sunday will be anothe
 r day of different trails\, different tours\, and more exploring. We can e
 ven take a ranger led interpretive snowshoe tour. Later in the afternoon\,
  we will board our coach and head toward home\, stopping for a special din
 ner on the way\, arriving back in Portland about 10 p.m.A bonus of this tr
 ip is:  a professional ski coach from Wy'East Nordic will be on hand to g
 ive skiing tips to those who want them -- at no extra cost.  There are tw
 o types of accommodations: The Historic Prospect Inn which has one double/
 queen bed in each room for two people  (ideal for couples) and the adjace
 nt motel-like rooms\, where participants will likely share large rooms wit
 h two or three beds per room and\, in some cases\, kitchenettes.  Trip li
 mit: 40 participants\, including the leaderCost: $310 (motel) or $330 (inn
 ).  Includes transportation\, lodging\, two dinners and two breakfasts. 
   Optional lunches can be ordered for Saturday or Sunday for $13 per day.
   You must be a current ONC club member before signing up for this trip.C
 ontact leader for room availability before sending your ONC overnight tri
 p application. For more info contact the leaders: Steve and Shannon Planch
 on\, 503 467-8599 or email oncskiplanchon@gmail.com\, 6205 N Depauw St.\, 
 Portland\, OR  97203. 
CATEGORIES:Backcountry Ski/Telemarking,Cross Country Ski,Snowshoe
END:VEVENT
BEGIN:VTIMEZONE
TZID:America/Los_Angeles
X-LIC-LOCATION:America/Los_Angeles
BEGIN:STANDARD
DTSTART:20141102T010000
TZOFFSETFROM:-0700
TZOFFSETTO:-0800
TZNAME:PST
END:STANDARD
END:VTIMEZONE
END:VCALENDAR