BEGIN:VCALENDAR
VERSION:2.0
PRODID:-//wp-events-plugin.com//7.0.5//EN
TZID:America/Los_Angeles
X-WR-TIMEZONE:America/Los_Angeles
BEGIN:VEVENT
UID:120@onc-pdx.org
DTSTART;TZID=America/Los_Angeles;VALUE=DATE:20160226
DTEND;TZID=America/Los_Angeles;VALUE=DATE:20160229
DTSTAMP:20160219T211246Z
URL:https://onc-pdx.org/events/crater-lake-via-charter-bus-2/
SUMMARY:Crater Lake via Charter Bus
DESCRIPTION:Feb 26-28\, Fri–SunExperience One of the Seven Wonders of Ore
 gon on Skis or Snowshoes\, and Without Crowds!All Abilities Ski and Snowsh
 oeThe Crater Lake rim\, at 7\,000 feet\, averages 44 feet of snow a year. 
 Join the ONC for the big trip at Crater Lake. Last year we had fresh snow 
 and sunny days – and some of the best skiing of the winter.We’ll board
  the deluxe coach at noon in Portland on Friday and proceed down I-5 while
  sharing in an appetizer based “Rolling Pot-Luck.” We will arrive in P
 rospect at around 6 pm\, giving you time to enjoy your room and a spaghett
 i dinner in the historic Prospect Hotel. The next morning\, after a hearty
  gourmet breakfast at the hotel\, we will take a quick ride to the rim and
  we’ll spend the day enjoying the spectacular snow formations and views 
 of the lake and surrounding mountains while skiing as far as our legs can 
 carry us. Sunday will be another day of different trails\, different tours
 \, and more exploring. If you want\, you can take a ranger led interpretiv
 e snowshoe tour. Later in the afternoon\, we will board our coach and head
  toward home. This year we will pre-order sandwiches or pizza and try to g
 et home by 9:00 p.m.We are going to continue with the excellent (and fun) 
 coaching with Shelley and Dave from  Wy’East Nordic to offer training ti
 ps to all who want it as we ski. There are two types of accommodations: Th
 e Historic Prospect Inn which has one double/queen bed in each room for tw
 o people (ideal for couples) and the adjacent motel-like rooms\, where par
 ticipants will likely share large rooms with two or three beds per room an
 d\, in some cases\, kitchenettes.Trip limit: 35 participants\, including t
 he leaderCost: $310 - $330 per person depending on lodging choice.Sign up 
 below on the ONC-PDX website\, or contact the leaders Steve and Shannon Pl
 anchon by email oncskiplanchon@gmail.com for more info and the address to 
 send the trip application and check.&nbsp\;
CATEGORIES:Cross Country Ski,Snowshoe
LOCATION:\, \, 
X-APPLE-STRUCTURED-LOCATION;VALUE=URI;X-ADDRESS=\, ;X-APPLE-RADIUS=100;X-TI
 TLE=:geo:0,0
END:VEVENT
BEGIN:VTIMEZONE
TZID:America/Los_Angeles
X-LIC-LOCATION:America/Los_Angeles
BEGIN:STANDARD
DTSTART:20151101T010000
TZOFFSETFROM:-0700
TZOFFSETTO:-0800
TZNAME:PST
END:STANDARD
END:VTIMEZONE
END:VCALENDAR