BEGIN:VCALENDAR
VERSION:2.0
PRODID:-//wp-events-plugin.com//7.0.5//EN
TZID:America/Los_Angeles
X-WR-TIMEZONE:America/Los_Angeles
BEGIN:VEVENT
UID:961@onc-pdx.org
DTSTART;TZID=America/Los_Angeles;VALUE=DATE:20230303
DTEND;TZID=America/Los_Angeles;VALUE=DATE:20230306
DTSTAMP:20221212T181737Z
URL:https://onc-pdx.org/events/crater-lake-on-the-party-bus/
SUMMARY:Crater Lake on the Party Bus
DESCRIPTION:Crater Lake Rim\, OR\nMar. 3-5\, Fri - Sun\nIntermediate to Adv
 anced Non-groomed\n\nAfter a two-year hiatus\, ONC-PDX is once again offer
 ing its traditional trip to Crater Lake\, where the snow pack is reliable 
 and the powder legendary.&nbsp\; Enjoy a hassle free trip on a comfortable
  bus and arrive full of energy for skiing.\n\nWe’ll board a deluxe coach
  in Clackamas at 12 noon on Friday\, March 3. We have permission to park c
 ars near the bus pickup.&nbsp\; On the bus ride down\, participants can ta
 ke part in the famous “rolling potluck\,” if they choose.&nbsp\;\n\nOu
 r favorite ski instructor\, Shelley Hakanson from Wy’East Nordic\, will 
 be joining us to assist beginners with basic cross country skiing skills\,
  intermediate skiers who want to get the most out of their diagonal stride
 \, and experienced skiers who want to refine their downhill telemark turns
 .&nbsp\;&nbsp\;\n\nAccommodations will include the historic Prospect Hotel
 \, originally a stage coach stop\, where such notable guests as Theodore R
 oosevelt\, Zane Grey and Jack London have stayed.&nbsp\; There are 9 doubl
 e and two singles beds available in the historic hotel\, The motel has 13 
 single beds (double occupancy). The price includes a gourmet dinner served
  at the Inn on Saturday with entree choices of prime rib\, lemon dill roas
 ted salmon or vegetarian lasagna. Each meal starts off with the house sala
 d and finishes with a house made decadent desert. Non alcoholic beverages 
 are also included in meals. Breakfast buffet on Saturday &amp\; Sunday Tax
 es and gratuities. We will bring our own food for our lunches. On Sunday M
 arch 5 we will stop in Roseburg at Abby's for dinner\, included in the pri
 ce\, then return to the Clackamas by 11:00 p.m.\n\nFor a truly memorable t
 rip with unsurpassed scenery\, it’s a great opportunity to enjoy the win
 ter wonderland of Crater Lake!&nbsp\;\n\nTrip Limit:&nbsp\; 35 participant
 s (including the 2 leaders and Shelly plus 1)\nCost:&nbsp\; Two price tier
 s - $455/person to stay in the historic Prospect Inn or $435/person at the
  Prospect Motel\nCarpool miles:&nbsp\; None. This is a charter bus ride to
  the destination\, included in cost\nTrip leader:&nbsp\; Johanna Lovell\,&
 nbsp\; joeielove@yahoo.com\nCo-leader:&nbsp\; Ann Truax\, ann.truax@gmail.
 com
CATEGORIES:Cross Country Ski
END:VEVENT
BEGIN:VTIMEZONE
TZID:America/Los_Angeles
X-LIC-LOCATION:America/Los_Angeles
BEGIN:STANDARD
DTSTART:20221106T010000
TZOFFSETFROM:-0700
TZOFFSETTO:-0800
TZNAME:PST
END:STANDARD
END:VTIMEZONE
END:VCALENDAR