BEGIN:VCALENDAR
VERSION:2.0
PRODID:-//wp-events-plugin.com//7.0.5//EN
TZID:America/Los_Angeles
X-WR-TIMEZONE:America/Los_Angeles
BEGIN:VEVENT
UID:920@onc-pdx.org
DTSTART;TZID=America/Los_Angeles:20220417T080000
DTEND;TZID=America/Los_Angeles:20220417T163000
DTSTAMP:20220413T031541Z
URL:https://onc-pdx.org/events/corner-pocket-2/
SUMMARY:Corner Pocket
DESCRIPTION:Description\nThis is a nine mile loop tour of Pocket Creek Alon
 g. The way we ski through Teackup.\n\nTour Difficulty: Intermediate\n\nCar
 pooling Location\n8 AM at Troutdale Mall in center of Parking Lot by Starb
 ucks. Advise if you can drive\n\nAre dogs allowed on this tour?:     
    NO\n\nTrip Leader Name:     Scott Diamond\nContact info:   scot
 t.diamond.mail@gmail.com  mobile: 503.643.6779\n\nSki Start Location\nPoc
 ket Creek
CATEGORIES:Cross Country Ski,Day Tours
LOCATION:Outlet Mall Troutdale\, 450 NW 257th\, Troutdale\, OR\, 97060\, Un
 ited States
X-APPLE-STRUCTURED-LOCATION;VALUE=URI;X-ADDRESS=450 NW 257th\, Troutdale\, 
 OR\, 97060\, United States;X-APPLE-RADIUS=100;X-TITLE=Outlet Mall Troutdal
 e:geo:0,0
END:VEVENT
BEGIN:VTIMEZONE
TZID:America/Los_Angeles
X-LIC-LOCATION:America/Los_Angeles
BEGIN:DAYLIGHT
DTSTART:20220313T030000
TZOFFSETFROM:-0800
TZOFFSETTO:-0700
TZNAME:PDT
END:DAYLIGHT
END:VTIMEZONE
END:VCALENDAR