BEGIN:VCALENDAR
VERSION:2.0
PRODID:-//wp-events-plugin.com//7.0.5//EN
TZID:America/Los_Angeles
X-WR-TIMEZONE:America/Los_Angeles
BEGIN:VEVENT
UID:823@onc-pdx.org
DTSTART;TZID=America/Los_Angeles:20210815T090000
DTEND;TZID=America/Los_Angeles:20210815T143000
DTSTAMP:20210812T031438Z
URL:https://onc-pdx.org/events/champoeg-park-bike-ride/
SUMMARY:Champoeg Park Bike Ride
DESCRIPTION:This is a great biking area with farms\, country scenes\, and l
 ow traffic. Leave at 9:00 am from the Riverside $5 fee lot (lower lot) at 
 Champoeg State Park (near St. Paul\, OR). Self-led Level A for 8 miles sta
 ying in the lower Champoeg Park area. Level A/B for 18 or 21 miles of most
 ly flat terrain. Bring a sack lunch and we'll have a picnic in the park af
 terwards!\n\nContact leader Robin Williams for more info:\n\nrwilliag@gmai
 l.com\n\n(503) 451-1742\n\n&nbsp\;
CATEGORIES:Biking
LOCATION:\, \, 
X-APPLE-STRUCTURED-LOCATION;VALUE=URI;X-ADDRESS=\, ;X-APPLE-RADIUS=100;X-TI
 TLE=:geo:0,0
END:VEVENT
BEGIN:VTIMEZONE
TZID:America/Los_Angeles
X-LIC-LOCATION:America/Los_Angeles
BEGIN:DAYLIGHT
DTSTART:20210314T030000
TZOFFSETFROM:-0800
TZOFFSETTO:-0700
TZNAME:PDT
END:DAYLIGHT
END:VTIMEZONE
END:VCALENDAR