BEGIN:VCALENDAR
VERSION:2.0
PRODID:-//wp-events-plugin.com//7.0.5//EN
TZID:America/Los_Angeles
X-WR-TIMEZONE:America/Los_Angeles
BEGIN:VEVENT
UID:122@onc-pdx.org
DTSTART;TZID=America/Los_Angeles;VALUE=DATE:20160319
DTEND;TZID=America/Los_Angeles;VALUE=DATE:20160328
DTSTAMP:20151014T151224Z
URL:https://onc-pdx.org/events/canadian-rockies-spring-break-ski-trip/
SUMMARY:Canadian Rockies Spring Break Ski Trip
DESCRIPTION:Mar 19–27\, Sat–Sun All Abilities SkiThis is the Big One to
  the Big Mountains! Don’t miss out! Join us for a ski expedition to the 
 magnificent Canadian Rockies Canmore\, Banff\, Kananaskis Country. We have
  planned six days of glorious backcountry intermediate level ski touring a
 nd groomed X-C trails of that region. The group will travel by car leaving
  from Portland Saturday\, March 19\, and arriving in Canmore\, Alberta Sun
 day\, March 20 with one overnight stay on the road (not included in cost).
  We will start our venture by spending a day skiing at the Canmore Nordic 
 Center\, the site of the ’88 Winter Olympics. Trails selected for ensuin
 g day tours are well known in that area and include Burstall Pass\, Canmor
 e to Banff via Goat Creek\, Dead Man's Flat to Skogan Pass and Ribbon Cree
 k\, and Smith Dorrien trails starting from Chester Lake. These trails can 
 be skied to whatever level of choice. One day will be left open for sights
 eeing or yes\, more skiing! Downhill skiing is also an option.Accommodatio
 ns entail a luxury house arrangements with kitchen facilities and entertai
 nment areas for dinners and socializing. Canmore is a delightfully enterta
 ining community and worthy of at least one night “on the town.” The re
 turn trip will begin early Sunday\, March 27\, returning to Portland that 
 day. Travel distance to Canmore is approximately 900 miles. A pre-trip mee
 ting will be scheduled to go over the details. A valid passport will be re
 quired to travel to Canada.Trip Limit: 8 participants\, including the lead
 er.Trip Cost: $450\, includes seven nights’ accommodations in a luxury h
 ouse in Canmore. Additional costs to be incurred are one or two nights of 
 accommodation on the road\, potluck meals\, shared costs for transportatio
 n\, trail fees for one day at Nordic Center and shared costs for groceries
  to prepare meals and trail lunches in Canmore.Sign up at the Overnight Tr
 ip Extravaganza in October. Afterwards\, you may sign-up on the ONC-PDX we
 bsite\, or send your ONC overnight trip application and $450 check payable
  to ONC-Portland Chapter to the trip leader: Ted Scheinman. For questions\
 , please contact Ted at 503-452-7432 or email at tedskier@gmail.com
CATEGORIES:Cross Country Ski
LOCATION:\, \, 
X-APPLE-STRUCTURED-LOCATION;VALUE=URI;X-ADDRESS=\, ;X-APPLE-RADIUS=100;X-TI
 TLE=:geo:0,0
END:VEVENT
BEGIN:VTIMEZONE
TZID:America/Los_Angeles
X-LIC-LOCATION:America/Los_Angeles
BEGIN:DAYLIGHT
DTSTART:20160313T030000
TZOFFSETFROM:-0800
TZOFFSETTO:-0700
TZNAME:PDT
END:DAYLIGHT
END:VTIMEZONE
END:VCALENDAR