BEGIN:VCALENDAR
VERSION:2.0
PRODID:-//wp-events-plugin.com//7.0.5//EN
TZID:America/Los_Angeles
X-WR-TIMEZONE:America/Los_Angeles
BEGIN:VEVENT
UID:845@onc-pdx.org
DTSTART;TZID=America/Los_Angeles;VALUE=DATE:20220201
DTEND;TZID=America/Los_Angeles;VALUE=DATE:20220212
DTSTAMP:20220121T000656Z
URL:https://onc-pdx.org/events/canadian-rockies-nipika-and-canmore/
SUMMARY:Canadian Rockies - Nipika and Canmore
DESCRIPTION:Trip Rating:&nbsp\; Intermediate to Advanced Skiers- Groomed an
 d Backcountry trails\nBasecamp:&nbsp\; British Columbia and Alberta\, Cana
 da oh Canada\n\n[caption id="attachment_10029" align="alignleft" width="30
 0"] Canada\, Oh Canada[/caption]\n\nSki both sides of the Continental Divi
 de in British Columbia and Alberta\, at Kootenay\, Yoho\, and Banff Nation
 al Parks\, and the provincial parks of the Kananaskis Range\, on groomed a
 nd backcountry trails through stunning mountain terrain.&nbsp\;\n\nWe will
  stop in Coeur d'Alene the first night\, then arrive for a two-night stay 
 at Nipika Mountain Resort inside Kootenay NP\, the second day.&nbsp\; We
 ’ll ski from our large Nipika cabin for two days\, then head across the 
 Divide to ski a gorgeous alpine cirque in Yoho NP\, before arriving at our
  comfy 4BR\, 4 bath townhouse just outside Banff National Park.&nbsp\;\n\n
 [caption id="attachment_10028" align="alignright" width="300"] Lake Louise
 \, Banf NP[/caption]\n\nFrom there\, we will enjoy seven days of skiing\, 
 as well as the amenities of Canmore\, a great Rocky Mountain ski town.&nbs
 p\; One highlight\, (if conditions allow) will be the 18km downhill tour t
 hrough the gorgeous Goat Creek and Spray River valleys from Canmore to Ban
 ff\, where we will park shuttle cars at the hot springs pools of Banff Spr
 ings Hotel.&nbsp\; We have the option of skiing groomed trails at the near
 by Canmore Nordic Centre\, the 60 km groomed Nordic venue of the Calgary O
 lympics.&nbsp\;\n\nMost dinners will be potluck style\, and breakfasts\, l
 unches are the responsibility of participants.&nbsp\; Passports and ArrivC
 AN proof of vaccination documents required.&nbsp\;\n\nTrip limit:&nbsp\; 8
  participants including trip leader\nCost:&nbsp\; $630/member per person.&
 nbsp\; Includes 9 nights lodging.&nbsp\; Additional expenses include hotel
  stays in Idaho\, park passes\, trail passes when necessary\, and cost of 
 travel and meals.\nCarpool Miles: 1\,500 miles roundtrip\, plus driving to
  trails some days\nTrip Leader:&nbsp\; Kevin Dye\, kevind2020@gmail.com
CATEGORIES:Cross Country Ski
END:VEVENT
BEGIN:VTIMEZONE
TZID:America/Los_Angeles
X-LIC-LOCATION:America/Los_Angeles
BEGIN:STANDARD
DTSTART:20211107T010000
TZOFFSETFROM:-0700
TZOFFSETTO:-0800
TZNAME:PST
END:STANDARD
END:VTIMEZONE
END:VCALENDAR