BEGIN:VCALENDAR
VERSION:2.0
PRODID:-//wp-events-plugin.com//7.0.5//EN
TZID:America/Los_Angeles
X-WR-TIMEZONE:America/Los_Angeles
BEGIN:VEVENT
UID:1259@onc-pdx.org
DTSTART;TZID=America/Los_Angeles;VALUE=DATE:20260116
DTEND;TZID=America/Los_Angeles;VALUE=DATE:20260120
DTSTAMP:20251208T004417Z
URL:https://onc-pdx.org/events/camp-sherman-mlk-weekend-2026/
SUMMARY:Camp Sherman MLK Weekend
DESCRIPTION:Camp Sherman\, OR\nJan. 16-19\, 2026\, Fri - Mon\nIntermediate 
 - Advanced Non-groomed\n\nHalfway between Santiam Pass and Sisters\, the v
 ery popular Lake Creek Lodge boasts quaint\, rustic cabins paneled in knot
 ty pine\, fireplaces\, full kitchens\, a creek coursing thru the grounds\,
  and the ideal ambience for a XC ski holiday.\n\nWe'll carpool over on Fri
 day\, have a traditional ONC potluck dinner on Saturday\, with leftovers a
 nd a slideshow on Sunday. Ski options are many --Santiam Pass\, Mt. Bachel
 or area\, Maxwell Sno-Park\, Tam MacArthur Rim\, and if we're lucky\, righ
 t out the door of our cabins. Separate rooms for couples/genders.\n\nTrip 
 limit:  16 participants\, including trip leaders\nCost:  $175/member per
  person. OR Sno-park pass required for vehicles.\nTravel miles:  From Por
 tland\, 300 miles round trip\, plus mileage to the ski areas.\nTrip Leader
 :  Steve Levy\, stevelevy1945@gmail.com\nCo-Leader: Rainer Hummel\, raine
 rpdx@gmail.com
CATEGORIES:Backcountry Ski/Telemarking,Cross Country Ski
END:VEVENT
BEGIN:VTIMEZONE
TZID:America/Los_Angeles
X-LIC-LOCATION:America/Los_Angeles
BEGIN:STANDARD
DTSTART:20251102T010000
TZOFFSETFROM:-0700
TZOFFSETTO:-0800
TZNAME:PST
END:STANDARD
END:VTIMEZONE
END:VCALENDAR