BEGIN:VCALENDAR
VERSION:2.0
PRODID:-//wp-events-plugin.com//7.0.5//EN
TZID:America/Los_Angeles
X-WR-TIMEZONE:America/Los_Angeles
BEGIN:VEVENT
UID:1162@onc-pdx.org
DTSTART;TZID=America/Los_Angeles;VALUE=DATE:20250117
DTEND;TZID=America/Los_Angeles;VALUE=DATE:20250121
DTSTAMP:20241225T003930Z
URL:https://onc-pdx.org/events/camp-sherman-mlk-weekend-2025/
SUMMARY:Camp Sherman MLK Weekend 2025
DESCRIPTION:Lake Creek Lodge\, Camp Sherman\, OR\nJanuary 17-20\, 2025\, ML
 K weekend\, Fri-Mon\nIntermediate - Advanced\n\nHalfway between Santiam Pa
 ss and Sisters\, the very popular Lake Creek Lodge boasts quaint\, rustic 
 cabins paneled in knotty pine\, fireplaces\, full kitchens\, a creek cours
 ing thru the grounds\, and the ideal ambience for a XC ski holiday. Check 
 out the website at lakecreeklodge.com\n\nWe'll carpool over on Friday\, ha
 ve a traditional ONC potluck dinner on Saturday\, with leftovers and a sli
 deshow on Sunday. Ski options are many -- Santiam Pass\, Mt. Bachelor area
 \, Maxwell Sno-Park\, Tam MacArthur Rim\, and\, if we're lucky\, right out
  the door of our cabins. Separate rooms for couples/genders.\n\nTrip limit
 :  16 participants\, including leader\nCost:  $190 per member\nTravel mi
 les:  300 miles round trip\, plus mileage to the ski areas\nTrip Leader:
   Steve Levy\, slevy@pacifier.com\nCo-Lead:  Rainer Hummel\, rainerpdx@g
 mail.com
CATEGORIES:Cross Country Ski
END:VEVENT
BEGIN:VTIMEZONE
TZID:America/Los_Angeles
X-LIC-LOCATION:America/Los_Angeles
BEGIN:STANDARD
DTSTART:20241103T010000
TZOFFSETFROM:-0700
TZOFFSETTO:-0800
TZNAME:PST
END:STANDARD
END:VTIMEZONE
END:VCALENDAR