BEGIN:VCALENDAR
VERSION:2.0
PRODID:-//wp-events-plugin.com//7.0.5//EN
TZID:America/Los_Angeles
X-WR-TIMEZONE:America/Los_Angeles
BEGIN:VEVENT
UID:974@onc-pdx.org
DTSTART;TZID=America/Los_Angeles:20220929T073000
DTEND;TZID=America/Los_Angeles:20220929T150000
DTSTAMP:20220928T133909Z
URL:https://onc-pdx.org/events/bridge-repair-at-barlow-pass-area-forest-se
 rvice-lead-project/
SUMMARY:Bridge Repair at Barlow Pass Area-  Forest Service Led Project
DESCRIPTION:The Forest Service is looking for some help on Thursday Sept 29
  at Devils Half Acre at Barlow Pass. Itienvolves removing a broken bridge 
 and replacing it with a Box Culvert from the bridge parts removed. So I am
  looking for 2 or 3 people for the project. We will be using hand saws and
  pry bars. Inside the wilderness boundary so no power tools. If your inter
 ested please sign up on the ONC- PDX Website once it is posted. Need Long 
 Pants and shirt work boots and gloves\, lunch and water. Tools and Hard Ha
 ts provided.\n\nMeeting at the Troutdale Mall (Columbia Gorge Outlets) at 
 7:30 AM to Carpool or Barlow Pass at 9 AM\n\nIf questions contact me&nbsp\
 ; Ken Wenzel&nbsp\; &nbsp\;Cell 503-729-6571&nbsp\; Home 503-297-2958&nbsp
 \; skiwenzel@hotmail.com
CATEGORIES:Trail Tending
END:VEVENT
BEGIN:VTIMEZONE
TZID:America/Los_Angeles
X-LIC-LOCATION:America/Los_Angeles
BEGIN:DAYLIGHT
DTSTART:20220313T030000
TZOFFSETFROM:-0800
TZOFFSETTO:-0700
TZNAME:PDT
END:DAYLIGHT
END:VTIMEZONE
END:VCALENDAR