BEGIN:VCALENDAR
VERSION:2.0
PRODID:-//wp-events-plugin.com//7.0.5//EN
TZID:America/Los_Angeles
X-WR-TIMEZONE:America/Los_Angeles
BEGIN:VEVENT
UID:707@onc-pdx.org
DTSTART;TZID=America/Los_Angeles:20191226T083000
DTEND;TZID=America/Los_Angeles:20191226T170000
DTSTAMP:20191224T191245Z
URL:https://onc-pdx.org/events/boxing-day-tour-intermediate-level/
SUMMARY:Boxing Day Tour - Intermediate level
DESCRIPTION:Let's spend Boxing Day on an Intermediate-level\, season tune-u
 p\, day outing on Mt. Hood on Thursday\, Dec. 26th. You will need to wear 
 proper clothing and bring gear in working order for a 3- to 5-mile ski tou
 r on flat trails to gentle hills\, as it is still rather early in what has
  been an up and down season weather-wise so far. Also\, all skiers will ca
 rry sufficient water for the outing\, pack a lunch\, and have the 10 Essen
 tials\, as well as bring cash for carpool gas money to cover the expense o
 f the trip\, or be willing to drive your own vehicle. Tentative plans are 
 for the Government Camp area\, depending on snow conditions. We would meet
  on the Eastside on Thursday morning before heading to the hills. This is 
 an official ONC Day Tour\, which would means participants would agree to s
 ki with the group. I can take the first three skiers to respond in my snow
  car. More skiers would need to provide additional mountain-ready cars. It
  is better if you don't have firm plans for the early evening immediately 
 afterward\, since mountain traffic jams can occur in the later afternoon\,
  especially during the holidays. Please contact me at 971-325-2874 by phon
 e or text\, or reply here by no later than 9 p.m. Wednesday night\, Christ
 mas Day (Dec. 25th). Let me know your ability level\, preference for trail
 s\, and if you can drive or will need a ride.
CATEGORIES:Cross Country Ski
END:VEVENT
BEGIN:VTIMEZONE
TZID:America/Los_Angeles
X-LIC-LOCATION:America/Los_Angeles
BEGIN:STANDARD
DTSTART:20191103T010000
TZOFFSETFROM:-0700
TZOFFSETTO:-0800
TZNAME:PST
END:STANDARD
END:VTIMEZONE
END:VCALENDAR