BEGIN:VCALENDAR
VERSION:2.0
PRODID:-//wp-events-plugin.com//7.0.5//EN
TZID:America/Los_Angeles
X-WR-TIMEZONE:America/Los_Angeles
BEGIN:VEVENT
UID:653@onc-pdx.org
DTSTART;TZID=America/Los_Angeles;VALUE=DATE:20200228
DTEND;TZID=America/Los_Angeles;VALUE=DATE:20200302
DTSTAMP:20191016T114827Z
URL:https://onc-pdx.org/events/black-butte-ranch-quickie/
SUMMARY:Black Butte Ranch Quickie
DESCRIPTION:Friday\, Feb. 28 thru Sunday\, Mar. 1Black Butte Ranch\, ORInte
 rmediate SkiCelebrate the weekend in the peaceful setting of Black Butte R
 anch.&nbsp\; This central Oregon location is close to skiing on Santiam Pa
 ss and the Three Creeks area near Sisters.&nbsp\; Mt.Bachelor Ski Area\, w
 hich boasts access to prime back-country skiing as well as groomed trails\
 , is only 32 miles away.&nbsp\; If the snowpack is low\, hiking is always 
 an option from the panoramic Smith Rocks to along the Metolius River\, whe
 re otters play in its clear waters.The accommodations are a large house wi
 th three queen bedrooms and a bunk room with two bunk beds.&nbsp\; Ameniti
 es at Black Butte Ranch include a hot tub\, sauna and swimming pool.&nbsp\
 ; For those who want to take a break from outdoor activities\, the histori
 c town of Sisters with its restaurants\, bakery\, bookstore\, quilt shop a
 nd other shops is close by. This trip is sure to appeal to everyone who wa
 nts to relax and escape the work week.We'll celebrate Leap Year Saturday n
 ight with a Chocolate extravaganza\; anything from molten lava cake to a f
 ancy candy bar\, is fair game!Trip limit:&nbsp\; 8 participants including 
 trip leader.Cost:&nbsp\; $140/member\, per person.&nbsp\; Includes 2 night
 s lodgingCarpool miles:&nbsp\; 300 miles roundtrip from Portland plus excu
 rsions to trailheads.Trip Leader:&nbsp\; Laurel Dickie\, laureldickie@hotm
 ail.comCo-Leader:&nbsp\; Alison Kean\, alisonrose729@gmail.com
CATEGORIES:Cross Country Ski
END:VEVENT
BEGIN:VTIMEZONE
TZID:America/Los_Angeles
X-LIC-LOCATION:America/Los_Angeles
BEGIN:STANDARD
DTSTART:20191103T010000
TZOFFSETFROM:-0700
TZOFFSETTO:-0800
TZNAME:PST
END:STANDARD
END:VTIMEZONE
END:VCALENDAR