BEGIN:VCALENDAR
VERSION:2.0
PRODID:-//wp-events-plugin.com//7.0.5//EN
TZID:America/Los_Angeles
X-WR-TIMEZONE:America/Los_Angeles
BEGIN:VEVENT
UID:849@onc-pdx.org
DTSTART;TZID=America/Los_Angeles;VALUE=DATE:20220227
DTEND;TZID=America/Los_Angeles;VALUE=DATE:20220303
DTSTAMP:20211013T001151Z
URL:https://onc-pdx.org/events/big-pine-country-in-the-ochoco-mountains/
SUMMARY:Big Pine Country in the Ochoco Mountains
DESCRIPTION:Trip Rating:&nbsp\; Intermediate Classic Ski\nBasecamp:&nbsp\; 
 Ochoco National Forest\, OR\n\n[caption id="attachment_10044" align="align
 right" width="224"] The Big Pines[/caption]\n\nWe will ski in the Ochoco M
 ountains about 30 miles east of Prineville in a relatively remote area of 
 Oregon to take advantage of the dry snow and wonderful views. We will ski 
 the Walton Lake and Bandit Springs Forest Service trails.&nbsp\; The last 
 few years ONC skiers have seen wild horses by Walton Lake and by the cabin
 .\n\nWe will be staying in an artfully constructed 1\,145 square foot 3-be
 droom 1.5 bath 2-story former ranger house\, with a wonderful dining room 
 table that accommodates our entire group\, as well as a large knotty-pine 
 paneled living room with comfortable seating for evening reading and chats
 .&nbsp\; There is no cell service at the cabin.\n\nIf snow is lacking\, we
  will do some hikes in the local area and over at the Painted Hills in the
  John Day Fossil beds.&nbsp\; Participants are responsible for their own b
 reakfasts and lunches.&nbsp\; Dinners will be potluck.&nbsp\;\n\nBackcount
 ry ski gear (NNN-BC bindings or better) required as skiing will be done on
  trails and ungroomed up and down terrain.&nbsp\; See 'Ochoco Mountains' o
 n our Trails and Maps page for additional info.\n\nAvailable Beds:&nbsp\; 
 2 double spaces and 3 singles (in one large room).&nbsp\; Living room will
  not be available for alternate sleeping arrangements.&nbsp\; Alternate sl
 eeping arrangements (e.g.\, cot or sleeping pads) are possible in double-b
 ed rooms.\n\nTrip limit:&nbsp\; 6 participants\, including trip leader\nCo
 st: &nbsp\;$75/member\, per person.&nbsp\; Includes 3 nights lodging.&nbsp
 \; Excludes cost of travel and meals.\nCarpool miles:&nbsp\; 350 miles rou
 ndtrip from Portland plus excursions to trailheads.\nTrip Leader: Martin P
 ike\, pike1765@comcast.net
CATEGORIES:Backcountry Ski/Telemarking,Cross Country Ski
END:VEVENT
BEGIN:VTIMEZONE
TZID:America/Los_Angeles
X-LIC-LOCATION:America/Los_Angeles
BEGIN:STANDARD
DTSTART:20211107T010000
TZOFFSETFROM:-0700
TZOFFSETTO:-0800
TZNAME:PST
END:STANDARD
END:VTIMEZONE
END:VCALENDAR