BEGIN:VCALENDAR
VERSION:2.0
PRODID:-//wp-events-plugin.com//7.0.5//EN
TZID:America/Los_Angeles
X-WR-TIMEZONE:America/Los_Angeles
BEGIN:VEVENT
UID:951@onc-pdx.org
DTSTART;TZID=America/Los_Angeles;VALUE=DATE:20230129
DTEND;TZID=America/Los_Angeles;VALUE=DATE:20230202
DTSTAMP:20221008T140112Z
URL:https://onc-pdx.org/events/big-pine-country-in-the-ochoco-mountains-2/
SUMMARY:Big Pine Country in the Ochoco Mountains
DESCRIPTION:Ochoco National Forest\, OR\nJan. 29 - Feb 1\, Sun-Wed\nInterme
 diate Ski on ungroomed trails\n\n\nWe will ski in the Ochoco Mountains abo
 ut 30 miles east of Prineville in a relatively remote area of Oregon to ta
 ke advantage of the dry snow and wonderful views. We will ski the Walton L
 ake and Bandit Springs Forest Service trails.&nbsp\; The last few years ON
 C skiers have seen wild horses by Walton Lake and by the cabin.\n\nWe will
  be staying in an artfully constructed 1\,145 square foot 3-bedroom 1.5 ba
 th 2-story former ranger house\, with a wonderful dining room table that a
 ccommodates our entire group\, as well as a large knotty-pine paneled livi
 ng room with comfortable seating for evening reading and chats.&nbsp\; The
 re is no cell service at the cabin.\n\nIf snow is lacking\, we will do som
 e hikes in the local area and over at the Painted Hills in the John Day Fo
 ssil beds.&nbsp\; Participants are responsible for their own breakfasts an
 d lunches.&nbsp\; Dinners will be potluck.&nbsp\;\n\nBackcountry ski gear 
 (NNN-BC bindings or better) required as skiing will be done on trails and 
 ungroomed up-and-down terrain.\n\nAvailable Beds:&nbsp\; 2 double spaces a
 nd 3 singles (in one large room).&nbsp\; Living room will not be available
  for alternate sleeping arrangements.&nbsp\; Alternate sleeping arrangemen
 ts (e.g.\, cot or sleeping pads) are possible in double-bed rooms.\n\nFor 
 some photos of a previous trip\, click here.\n\nTrip limit:&nbsp\; 6 parti
 cipants\, including trip leader\nCost: &nbsp\;$60/member\, per person.&nbs
 p\; Includes 3 nights lodging.&nbsp\; Excludes cost of travel and meals.\n
 Carpool miles:&nbsp\; 350 miles round trip from Portland plus excursions t
 o trailheads.\nTrip Leader: Martin Pike\, pike1765@comcast.net
CATEGORIES:Backcountry Ski/Telemarking,Cross Country Ski
END:VEVENT
BEGIN:VTIMEZONE
TZID:America/Los_Angeles
X-LIC-LOCATION:America/Los_Angeles
BEGIN:STANDARD
DTSTART:20221106T010000
TZOFFSETFROM:-0700
TZOFFSETTO:-0800
TZNAME:PST
END:STANDARD
END:VTIMEZONE
END:VCALENDAR