BEGIN:VCALENDAR
VERSION:2.0
PRODID:-//wp-events-plugin.com//7.0.5//EN
TZID:America/Los_Angeles
X-WR-TIMEZONE:America/Los_Angeles
BEGIN:VEVENT
UID:733@onc-pdx.org
DTSTART;TZID=America/Los_Angeles:20200314T080000
DTEND;TZID=America/Los_Angeles:20200314T170000
DTSTAMP:20200311T164456Z
URL:https://onc-pdx.org/events/bennett-pass-the-hard-way/
SUMMARY:Bennett Pass the Hard Way
DESCRIPTION:For those tired skiing the out-and-back on Bennett pass\, this 
 is a variant which turns it into a loop tour. As per usual we head out fro
 m Bennett pass\, ski the S-curves\, windy pass and  the famed “TERRIBLE
  TRAVERSE”. From there we head out a little further and have a wonderful
  downhill on an old logging road into pocket creek. We then ski back but n
 ow we are skiing at the base of the ridge that we skied out on. The end of
  the tour is somewhat of a drag as we have to climb back out of pocket cre
 ek. But then we arrive at the car and relax.This tour has a mix of road an
 d trail skiing. Good fitness is required and  intermediate level turning 
 for trail sections  and S-curves. Please do not sign up for this tour if 
 you do not meet these requirements.To be on this tour you must contact me 
 by e-mail in advance.  I do this so that I can send each potential partic
 ipant an info packet with more info on difficulty and expectations for thi
 s tour. Additionally\, I want all your e-mail addresses so that in case th
 e trip is cancelled I can contact everyone.   Sorry for the hassle relat
 ed with this but I need to ensure a safe tour. Leader: Scott Diamond Ema
 il: scott.diamond.mail@gmail.com Mobile: 503.643.6779Meeting time/Place: 
 As noted above\, e-mail me for info Dog’s allowed: No Cost: Plan on $2
 0/skier for carpool cost
CATEGORIES:Cross Country Ski
END:VEVENT
BEGIN:VTIMEZONE
TZID:America/Los_Angeles
X-LIC-LOCATION:America/Los_Angeles
BEGIN:DAYLIGHT
DTSTART:20200308T030000
TZOFFSETFROM:-0800
TZOFFSETTO:-0700
TZNAME:PDT
END:DAYLIGHT
END:VTIMEZONE
END:VCALENDAR