BEGIN:VCALENDAR
VERSION:2.0
PRODID:-//wp-events-plugin.com//7.0.5//EN
TZID:America/Los_Angeles
X-WR-TIMEZONE:America/Los_Angeles
BEGIN:VEVENT
UID:698@onc-pdx.org
DTSTART;TZID=America/Los_Angeles:20200104T083000
DTEND;TZID=America/Los_Angeles:20200104T163000
DTSTAMP:20191208T024937Z
URL:https://onc-pdx.org/events/bennett-pass-mt-hood-5/
SUMMARY:Bennett Pass - Mt. Hood
DESCRIPTION:Ski 4-7 miles round trip on easy to moderate terrain along the 
 Bennett Ridge Trail. Bring lunch.  Please call leader to confirm atten
 dance\, Mike Dianich\, 971-344-1021(text first)\, mdianich@gmail.com.
CATEGORIES:Cross Country Ski
LOCATION:\, \, 
X-APPLE-STRUCTURED-LOCATION;VALUE=URI;X-ADDRESS=\, ;X-APPLE-RADIUS=100;X-TI
 TLE=:geo:0,0
END:VEVENT
BEGIN:VTIMEZONE
TZID:America/Los_Angeles
X-LIC-LOCATION:America/Los_Angeles
BEGIN:STANDARD
DTSTART:20191103T010000
TZOFFSETFROM:-0700
TZOFFSETTO:-0800
TZNAME:PST
END:STANDARD
END:VTIMEZONE
END:VCALENDAR