BEGIN:VCALENDAR
VERSION:2.0
PRODID:-//wp-events-plugin.com//7.0.5//EN
TZID:America/Los_Angeles
X-WR-TIMEZONE:America/Los_Angeles
BEGIN:VEVENT
UID:1303@onc-pdx.org
DTSTART;TZID=America/Los_Angeles:20260307T080000
DTEND;TZID=America/Los_Angeles:20260307T170000
DTSTAMP:20260306T160533Z
URL:https://onc-pdx.org/events/bennet-pass-the-hard-way/
SUMMARY:Bennet Pass the Hard Way
DESCRIPTION:For those tired skiing the out-and-back on Bennett pass\, this 
 is a variant which turns it into a loop tour. As per usual we head out fro
 m Bennett pass\, ski the S-curves\, windy pass and the famed “TERRIBLE T
 RAVERSE”. From there we head out a little further and have a wonderful d
 ownhill on an old logging road into pocket creek. We then ski back but now
  we are skiing at the base of the ridge that we skied out on. The end of t
 he tour is somewhat of a drag as we have to climb back out of pocket creek
 . But then we arrive at the car and relax.\n\nThis tour has a mix of road 
 and trail skiing. Good fitness is required and intermediate level turning 
 for trail sections and S-curves. Please do not sign up for this tour if yo
 u do not meet these requirements.\n\nOnce you have signed up for this tour
 \, I will email you several info packets which should supply the informati
 on you need to assess the difficulty of this tour.\n\nLeader: Scott Diamon
 d\nEmail: scott.diamond.mail@gmail.com\nTour Difficulty: Intermediate+\nDo
 gs allowed: No\nCost: Plan on $15-$20/skier for carpool cost
CATEGORIES:Cross Country Ski,Day Tours
LOCATION:Oldtown Troutdale (next to railroad tracks)\, 101 Historic Columbi
 a River Hwy.\, Troutdale\, OR\, 97060\, United States
X-APPLE-STRUCTURED-LOCATION;VALUE=URI;X-ADDRESS=101 Historic Columbia River
  Hwy.\, Troutdale\, OR\, 97060\, United States;X-APPLE-RADIUS=100;X-TITLE=
 Oldtown Troutdale (next to railroad tracks):geo:0,0
END:VEVENT
BEGIN:VTIMEZONE
TZID:America/Los_Angeles
X-LIC-LOCATION:America/Los_Angeles
BEGIN:STANDARD
DTSTART:20251102T010000
TZOFFSETFROM:-0700
TZOFFSETTO:-0800
TZNAME:PST
END:STANDARD
END:VTIMEZONE
END:VCALENDAR