BEGIN:VCALENDAR
VERSION:2.0
PRODID:-//wp-events-plugin.com//7.0.5//EN
TZID:America/Los_Angeles
X-WR-TIMEZONE:America/Los_Angeles
BEGIN:VEVENT
UID:643@onc-pdx.org
DTSTART;TZID=America/Los_Angeles;VALUE=DATE:20200207
DTEND;TZID=America/Los_Angeles;VALUE=DATE:20200211
DTSTAMP:20191016T114205Z
URL:https://onc-pdx.org/events/bend-area-easy-ski-february-2020/
SUMMARY:Bend Area Easy Ski In February
DESCRIPTION:Friday\, Feb. 7 thru Monday\, Feb. 10Sun River\, OREasy Skiing 
 on Groomed Trail Systems – With InstructionalThis trip is for XC skiers 
 and skier wannabes who plan to take it easy. We will ski on gently rolling
  and flat trails which are groomed. Each day tour is accented with some sk
 i skill building lessons for those who would like.Taking it easy on the tr
 ails allows us to maximize the amenities of our house. It has two living r
 ooms\, a chef’s dream kitchen\, BBQ on the deck\, hot tub\, a piano in t
 he upstairs game room for that famous ONC sing along\, fireplace\, TVs and
  electronic game stations\, and laundry facilities.&nbsp\; There are 3 kin
 g/queen bedrooms and 2 bedrooms with 2 twin beds each. &nbsp\;There’s mo
 re but you get the picture by now.Plan for potluck dinners and lunch on th
 e trail. We will arrive Friday evening for two and a half days skiing\, re
 turning home on Monday after another glide on the trail.Round trip to the 
 house is approximately 380 miles and carpooling is always recommended.&nbs
 p\; We don’t have to buy trail passes but donations are expected at Meis
 sner/Swampy Lakes trail systems.If the trip appears to be full when using 
 the online sign up\, be sure to join the waitlist.&nbsp\; We seem to alway
 s have cancellations.Trip limit:&nbsp\; 10 participants including trip lea
 der.Cost: $195/member\, per person.&nbsp\; Includes 3 nights lodging.Carpo
 ol miles:&nbsp\; 380 miles roundtrip from Portland plus excursions to trai
 lheads.Trip Leader:&nbsp\; Sam Digard\, sam.digard@gmail.com
CATEGORIES:Cross Country Ski
END:VEVENT
BEGIN:VTIMEZONE
TZID:America/Los_Angeles
X-LIC-LOCATION:America/Los_Angeles
BEGIN:STANDARD
DTSTART:20191103T010000
TZOFFSETFROM:-0700
TZOFFSETTO:-0800
TZNAME:PST
END:STANDARD
END:VTIMEZONE
END:VCALENDAR