BEGIN:VCALENDAR
VERSION:2.0
PRODID:-//wp-events-plugin.com//7.0.5//EN
TZID:America/Los_Angeles
X-WR-TIMEZONE:America/Los_Angeles
BEGIN:VEVENT
UID:821@onc-pdx.org
DTSTART;TZID=America/Los_Angeles:20210715T093000
DTEND;TZID=America/Los_Angeles:20210715T130000
DTSTAMP:20210712T205350Z
URL:https://onc-pdx.org/events/beaverton-spokes-and-eats/
SUMMARY:Beaverton Spokes and Eats
DESCRIPTION:Come enjoy a bike ride this Thursday on the West Side.&nbsp\; T
 he ride is on mostly shared paths\, some low-traffic surface streets\, a f
 ew crossings with lights\, and one stretch in bike lanes with low-moderate
  traffic.&nbsp\; We will leave from my house in West Beaverton\, ride over
  to the Fanno Creek Trail\, down to Tigard\, over to Garden Home Rec Cente
 r\, and head for lunch at BG Food Carts before a short ride back to our st
 arting point.&nbsp\; Click to see an overview of the route.\n\nTotal dista
 nce is about 21 miles\, mostly flat (easy)\, 350 ft. elevation change\, ri
 ding about 10-14 mph (intermediate) with variations.&nbsp\; Ride time of a
 bout 2.5 hours.&nbsp\; We will regroup at major points with stops for bath
 room breaks.&nbsp\; Plan to start riding by 9:45 am and finish about 1pm o
 r so.&nbsp\; Weather forecast is for mostly sunny\, 65 at the start\, warm
 ing to about 80.&nbsp\; Should be beautiful.&nbsp\; Bring water\, snacks\,
  sunscreen\, helmet\, repair gear\, $$\, a mask (in case)\, and be COVID-f
 ree and vaccinated.&nbsp\;\n\nI am 2 miles west of Hwy. 217 between Allen 
 Blvd. and Farmington Rd.&nbsp\; Directions will be sent after signup.&nbsp
 \; Please email me for any questions.&nbsp\; Hope to see you\, Richard\, r
 ichard_crimi@hotmail.com\n\n&nbsp\;
CATEGORIES:Biking
END:VEVENT
BEGIN:VTIMEZONE
TZID:America/Los_Angeles
X-LIC-LOCATION:America/Los_Angeles
BEGIN:DAYLIGHT
DTSTART:20210314T030000
TZOFFSETFROM:-0800
TZOFFSETTO:-0700
TZNAME:PDT
END:DAYLIGHT
END:VTIMEZONE
END:VCALENDAR