BEGIN:VCALENDAR
VERSION:2.0
PRODID:-//wp-events-plugin.com//7.0.5//EN
TZID:America/Los_Angeles
X-WR-TIMEZONE:America/Los_Angeles
BEGIN:VEVENT
UID:825@onc-pdx.org
DTSTART;TZID=America/Los_Angeles:20210820T090000
DTEND;TZID=America/Los_Angeles:20210820T153000
DTSTAMP:20210815T140102Z
URL:https://onc-pdx.org/events/banks-vernonia-trail-bike-ride/
SUMMARY:Banks-Vernonia Trail Bike Ride
DESCRIPTION:Let’s enjoy several hours together on the wonderful Banks-Ver
 nonia Bike Trail\, the first rails-to-trails bike trail in Oregon. Plans a
 re to leave from the Manning Trailhead\, shortly after the junction of the
  Sunset Hwy. (Highway 26) and Highway 47. The ride will be about 35 miles 
 long\, with some fairly gentle grades (except one)\, separated from traffi
 c. This is planned to be a casual trip – not racing. We plan to stop in 
 Vernonia for a snack or lunch at one of two great restaurants\, before we 
 return before it gets warm. The weather is expected to be (only) in the 80
 s. Limit of 10 people\, including the leader. &nbsp\;We will be Covid safe
 \n\nPlease RSVP to Ted Scheinman\,&nbsp\;503-914-9584&nbsp\;or by email at
 &nbsp\;tedskier@gmail.com.
CATEGORIES:Biking
END:VEVENT
BEGIN:VTIMEZONE
TZID:America/Los_Angeles
X-LIC-LOCATION:America/Los_Angeles
BEGIN:DAYLIGHT
DTSTART:20210314T030000
TZOFFSETFROM:-0800
TZOFFSETTO:-0700
TZNAME:PDT
END:DAYLIGHT
END:VTIMEZONE
END:VCALENDAR