BEGIN:VCALENDAR
VERSION:2.0
PRODID:-//wp-events-plugin.com//7.0.5//EN
TZID:America/Los_Angeles
X-WR-TIMEZONE:America/Los_Angeles
BEGIN:VEVENT
UID:101@onc-pdx.org
DTSTART;TZID=America/Los_Angeles;VALUE=DATE:20160305
DTEND;TZID=America/Los_Angeles;VALUE=DATE:20160320
DTSTAMP:20150903T205454Z
URL:https://onc-pdx.org/events/austrian-and-italian-alps-ski-trip/
SUMMARY:Austrian and Italian Alps Ski Trip
DESCRIPTION:Skate and classic cross-country ski in the Austrian Alps and th
 e Dolomites of Italy in March 2016! We’ll fly from Portland or Seattle o
 n Saturday\, March 5 to Munich and take the train to Seefeld\, Austria (ne
 ar Innsbruck). We’ll have hotel rooms and an apartment for group meals a
 nd food preparation. For the first week of the trip\, we can take a ski bu
 s to different local villages\, or ski from the hotel. Tourist activites a
 re also an option (costs vary). On Sunday\, March 13\, we go to Plan de Gr
 alba\, Italy\, where we will ski the Dolomites of Val Gardenia through Pla
 n de Gralba until Friday\, March 18\, when we will travel to Munich\, have
  dinner at the world famous Hofbrauhaus and stay overnight\, preparing to 
 return back to Portland on Saturday\, March 19.Our hotel rooms are modern 
 with private bathrooms\, in room. Breakfasts are included. Lunch is typica
 lly eaten on the trail\, or ski up to a chalet and dine as you desire. Din
 ner will be in the apartment or at the many choices of restaurants. Lunche
 s and dinners are not included.There are no in-city tourist activities pla
 nned\; however\, if the group desires\, we can set aside a day to tour mus
 eums and cathedrals—with time for taking photos.Trip Limit: 12 participa
 ntsCost: estimated at $2\,900 (but the recommended budget is $3\,500). You
  must be a current ONC member before signing up for this trip. Includes ro
 und trip airfare to Munich from Portland or Seattle\, train to Seefeld and
  Plan de Gralba\, and then back to Munich\, bus passes near Seefeld\, skii
 ng in Plan de Gralba\, all lodging (double occupancy)\, breakfasts and fin
 al dinner in Munich. Deposit $500 with the full balance due by September 1
 5\, 2015. ONC-PDX TravelGuard or equivalent travel insurance required. Thi
 s is a special arrangement the ONC-PDX has with TravelGuard for 7% of trip
  cost. www.travelguard.com (There are some tricks to using the TravelGuard
  website and getting the ONC-PDX rate. Please contact the leader to work t
 hrough them.)For more info contact trip leader: Sam Digard sam.digard@gmai
 l.com call/text 360.910.1714 (voice calls are often difficult to answer\, 
 so please be ready to leave a message) for more details and a larger Power
 Point overview of the trip.
CATEGORIES:Cross Country Ski,Skate Ski
LOCATION:Seefeld\, Reitherspitzstraße 632d\, 6100 Seefeld\, Seefeld\, Aust
 ria
GEO:47.330002;11.187774
X-APPLE-STRUCTURED-LOCATION;VALUE=URI;X-ADDRESS=Reitherspitzstraße 632d\, 
 6100 Seefeld\, Seefeld\, Austria;X-APPLE-RADIUS=100;X-TITLE=Seefeld:geo:47
 .330002,11.187774
END:VEVENT
BEGIN:VTIMEZONE
TZID:America/Los_Angeles
X-LIC-LOCATION:America/Los_Angeles
BEGIN:STANDARD
DTSTART:20151101T010000
TZOFFSETFROM:-0700
TZOFFSETTO:-0800
TZNAME:PST
END:STANDARD
BEGIN:DAYLIGHT
DTSTART:20160313T030000
TZOFFSETFROM:-0800
TZOFFSETTO:-0700
TZNAME:PDT
END:DAYLIGHT
END:VTIMEZONE
END:VCALENDAR