BEGIN:VCALENDAR
VERSION:2.0
PRODID:-//wp-events-plugin.com//7.0.5//EN
TZID:America/Los_Angeles
X-WR-TIMEZONE:America/Los_Angeles
BEGIN:VEVENT
UID:651@onc-pdx.org
DTSTART;TZID=America/Los_Angeles;VALUE=DATE:20200222
DTEND;TZID=America/Los_Angeles;VALUE=DATE:20200307
DTSTAMP:20200110T225903Z
URL:https://onc-pdx.org/events/austria-italy-skiing-in-alps-2020/
SUMMARY:Austria & Italy Skiing in the Alps 2020
DESCRIPTION:Saturday Feb. 22 thru Friday\, Mar 6Ski in the Austrian Alps an
 d the Dolomites in ItalyClassic Nordic Groomed Trails with Downhill Option
 The trip is rated all abilities and is geared towards intermediate cross c
 ountry and optionally type 3 downhill skiing. The group will mainly be a m
 ix of intermediate through advanced so slower skiers will probably be self
 -lead\, but we have excellent maps. The groomed trails are unparalleled ex
 perience for an XC enthusiast. For the downhill aficionados\, this is the 
 trip of a lifetime where you can check off circumnavigating Sella Ronda fr
 om your bucket list.Trip details:Day 1 - 2: Fly from Portland to Munich an
 d take train to Seefeld in Tirol\, AustriaDay 3 - 7: Ski! Starting from th
 e hotel or take a bus ride to the surrounding valleysOptional: take a day 
 off to visit Innsbruck’s castles and museumsDay 8 - 12: Head to the Dolo
 mites to ski within the valleys you see in the pictures and also consider 
 taking the Sella Ronda downhill circuit. Stay in Ortisei Sankt UlrichDay 1
 3: Spend the last day in Munich to tour\, shop\, and dine at the original 
 Hofbrau HausDay 14: Fly from Munich to PortlandThings to look forward to:E
 uropean breakfast buffetsAlpine huts and hot lunchGluhwein (hot mulled win
 e perfect for warming up after a ski)German and Austrian style beerKilomet
 ers upon kilometers of skiing on impeccably groomed trailsUnparalleled vie
 wsThe cost of the trip includes:Round trip airfare from Portland to Munich
 All ground transportationLodging for 12 nightsBreakfastsDinner in MunichTr
 ail passes and lift tickets for XCCheck out some of the views you'll see: 
 &nbsp\;skiing in the DolomitiTrip limit:&nbsp\; 16 participants including 
 trip leaders.Cost:&nbsp\; $2510/member\, per person which includes trip in
 surance.&nbsp\; Trip deposit of $700 on signup with the balance due later 
 in December..Trip Leader:&nbsp\; Sam Digard\, sam.digard@gmail.comCo-Leade
 r:&nbsp\; Aimee Ritter\, ritter.aimee@outlook.com
CATEGORIES:Cross Country Ski
END:VEVENT
BEGIN:VTIMEZONE
TZID:America/Los_Angeles
X-LIC-LOCATION:America/Los_Angeles
BEGIN:STANDARD
DTSTART:20191103T010000
TZOFFSETFROM:-0700
TZOFFSETTO:-0800
TZNAME:PST
END:STANDARD
END:VTIMEZONE
END:VCALENDAR