BEGIN:VCALENDAR
VERSION:2.0
PRODID:-//wp-events-plugin.com//7.0.5//EN
TZID:America/Los_Angeles
X-WR-TIMEZONE:America/Los_Angeles
BEGIN:VEVENT
UID:1235@onc-pdx.org
DTSTART;TZID=America/Los_Angeles:20250323T080000
DTEND;TZID=America/Los_Angeles:20250323T163000
DTSTAMP:20250318T001631Z
URL:https://onc-pdx.org/events/atkisson-sp-peterson-ridge-last-harrah-agai
 n/
SUMMARY:Atkisson SP/ Peterson Ridge last harrah\, Again!
DESCRIPTION:Ski 5-7 mi on groomed and ungroomed trails with the possibility
  of a Mt Adams view. Snow conditions should be variable\, good to aaack. L
 eader will provide baling twine chains to turn your skis into snow shoes\,
  if needed for descent. Season end will be celebrated again at Society Hot
 el sauna and hot baths\, Bingen\, WA (bathing suit\, $35. +tax\, individua
 l reservation.) For more info\, and confirm attendance by contacting leade
 r: Mike Dianich 971-344-1021 (txt first)\n\nIntermediate tour\n\nA Michael
  Dianich\n\nmdianich@gmail.con\n\n&nbsp\;\n\n&nbsp\;
CATEGORIES:Cross Country Ski,Day Tours
LOCATION:Oldtown Troutdale (next to railroad tracks)\, 101 Historic Columbi
 a River Hwy.\, Troutdale\, OR\, 97060\, United States
X-APPLE-STRUCTURED-LOCATION;VALUE=URI;X-ADDRESS=101 Historic Columbia River
  Hwy.\, Troutdale\, OR\, 97060\, United States;X-APPLE-RADIUS=100;X-TITLE=
 Oldtown Troutdale (next to railroad tracks):geo:0,0
END:VEVENT
BEGIN:VTIMEZONE
TZID:America/Los_Angeles
X-LIC-LOCATION:America/Los_Angeles
BEGIN:DAYLIGHT
DTSTART:20250309T030000
TZOFFSETFROM:-0800
TZOFFSETTO:-0700
TZNAME:PDT
END:DAYLIGHT
END:VTIMEZONE
END:VCALENDAR