BEGIN:VCALENDAR
VERSION:2.0
PRODID:-//wp-events-plugin.com//7.0.5//EN
TZID:America/Los_Angeles
X-WR-TIMEZONE:America/Los_Angeles
BEGIN:VEVENT
UID:1224@onc-pdx.org
DTSTART;TZID=America/Los_Angeles:20250302T083000
DTEND;TZID=America/Los_Angeles:20250302T170000
DTSTAMP:20250227T051011Z
URL:https://onc-pdx.org/events/atkisson-sp-peterson-prairie/
SUMMARY:Atkisson SP/Peterson Prairie
DESCRIPTION:Ski 5-7 mi on moderate terrain. Bring Lunch. We may encounter c
 onsolidated snow--leader will bring bailing twine ski chains to convert sk
 is to snowshoes if needed. This may be last hurrah for SW WA ski trails. M
 eet 8:30am\, .old town Troutdale for carpool.\n\nNo dogs allowed\n\nMike D
 ianich\n971-344-1021 (txt first)\nmdianich@gmail.com
CATEGORIES:Cross Country Ski,Day Tours
LOCATION:Oldtown Troutdale (next to railroad tracks)\, 101 Historic Columbi
 a River Hwy.\, Troutdale\, OR\, 97060\, United States
X-APPLE-STRUCTURED-LOCATION;VALUE=URI;X-ADDRESS=101 Historic Columbia River
  Hwy.\, Troutdale\, OR\, 97060\, United States;X-APPLE-RADIUS=100;X-TITLE=
 Oldtown Troutdale (next to railroad tracks):geo:0,0
END:VEVENT
BEGIN:VTIMEZONE
TZID:America/Los_Angeles
X-LIC-LOCATION:America/Los_Angeles
BEGIN:STANDARD
DTSTART:20241103T010000
TZOFFSETFROM:-0700
TZOFFSETTO:-0800
TZNAME:PST
END:STANDARD
END:VTIMEZONE
END:VCALENDAR