BEGIN:VCALENDAR
VERSION:2.0
PRODID:-//wp-events-plugin.com//7.0.5//EN
TZID:America/Los_Angeles
X-WR-TIMEZONE:America/Los_Angeles
BEGIN:VEVENT
UID:988@onc-pdx.org
DTSTART;TZID=America/Los_Angeles:20221211T080000
DTEND;TZID=America/Los_Angeles:20221211T170000
DTSTAMP:20221208T162840Z
URL:https://onc-pdx.org/events/atkisson-snow-park-mt-adams-ice-cave-natura
 l-bridges-loop/
SUMMARY:Atkisson Snow Park -Mt. Adams - Ice Cave - Natural Bridges Loop 
DESCRIPTION:Description:&nbsp\; Atkisson Snow Park -Mt. Adams - Ice Cave - 
 Natural Bridges Loop\;\n\nSki Level: Beginner - Intermediate ski\n\nDate: 
 Sunday\, December 11 (all day)\n\n\nMeeting Time &amp\; Location: \nMeet a
 t Oldtown Troutdale Public Parking Lot  next to the railroad tracks\, 115 
 W Historic Columbia River Hwy. (see map below)\nMeeting at Atkisson Snow P
 ark at 9:30 – 9:45 AM.\nWashington Snow Park Pass required if you plan o
 n driving.\n\nTour Leader: Ken Wenzel\, skiwenzel@hotmail.com Cell - 503-7
 29-6571&nbsp\; &nbsp\; Home Phone 503-297-2958\n\n
CATEGORIES:Cross Country Ski,Day Tours
END:VEVENT
BEGIN:VTIMEZONE
TZID:America/Los_Angeles
X-LIC-LOCATION:America/Los_Angeles
BEGIN:STANDARD
DTSTART:20221106T010000
TZOFFSETFROM:-0700
TZOFFSETTO:-0800
TZNAME:PST
END:STANDARD
END:VTIMEZONE
END:VCALENDAR