BEGIN:VCALENDAR
VERSION:2.0
PRODID:-//wp-events-plugin.com//7.0.5//EN
TZID:America/Los_Angeles
X-WR-TIMEZONE:America/Los_Angeles
BEGIN:VEVENT
UID:1244@onc-pdx.org
DTSTART;TZID=America/Los_Angeles:20250622T093000
DTEND;TZID=America/Los_Angeles:20250622T170000
DTSTAMP:20250527T202058Z
URL:https://onc-pdx.org/events/atkisson-sno-park-natural-bridges-loop-trai
 l-tending/
SUMMARY:Mt. Adams Part 2 - Natural Bridges Loop Trail Tending
DESCRIPTION:This is Part 2 of a two-parter.  Come just on Sunday and work 
 on the Natural Bridges Loop Tr.\, or join us on Saturday too\, work on the
  Pipepline Trail\, camp out\, and you're there already!  This is a lovely
  setting\, far from the maddening crowds.  If you plan to help both days\
 , please sign up for the Pipeline Trail too.   This is necessary so we kn
 ow who all is coming.\n\nWhat to bring: Bring your camp gear\, meals\, plu
 s 12 essentials if you're staying over.  For trail tending\, bring a comf
 ortable pair of work gloves to protect your hands (gardening gloves are ok
 ). Wear long pants\, a long sleeved shirt\, hiking boots and protective ey
 e wear.  Dress for the weather\; it could be hot\, cold\, windy\, rainy\,
  or any and all in the same day.  Have bug repellent\, sunscreen\, plus 1
 2 essentials. Finally\, bring small backpack with a lunch and snacks as yo
 u are sure to work up an appetite\, and lots of water.  We'll supply the 
 tools and hardhats.\n\nSign up below - select the number of spaces for all
  of the people in your party and provide their contact information where i
 ndicated.  Note to members - please sign in to make a reservation.\n\nFor
  more info or if the signup is full\, contact the leader: Ken Wenzel 503-7
 29-6571 (call or text) skiwenzel@hotmail.com\n\nMeet at Atkisson Sno-Park 
 at 9:30 am sharp to  join us on Sunday.
CATEGORIES:Trail Tending
END:VEVENT
BEGIN:VTIMEZONE
TZID:America/Los_Angeles
X-LIC-LOCATION:America/Los_Angeles
BEGIN:DAYLIGHT
DTSTART:20250309T030000
TZOFFSETFROM:-0800
TZOFFSETTO:-0700
TZNAME:PDT
END:DAYLIGHT
END:VTIMEZONE
END:VCALENDAR