BEGIN:VCALENDAR
VERSION:2.0
PRODID:-//wp-events-plugin.com//7.0.5//EN
TZID:America/Los_Angeles
X-WR-TIMEZONE:America/Los_Angeles
BEGIN:VEVENT
UID:811@onc-pdx.org
DTSTART;TZID=America/Los_Angeles:20210406T190000
DTEND;TZID=America/Los_Angeles:20210406T210000
DTSTAMP:20210402T225113Z
URL:https://onc-pdx.org/events/april-meeting-tba/
SUMMARY:April Meeting: Oregon's Lost Ski Areas
DESCRIPTION:ONC-PDX Monthly Meeting\nOregon's Lost Ski Areas\n\nWhen: Tuesd
 ay April 6th\, 7pm – 9pm. 7pm members share about skiing\, 7:30 pm progr
 am. \nWhere: Zoom! Members will receive the link by email\n\nPresenter: S
 teve Stenkamp\n\nOregon currently has only 12 active downhill ski areas. 
  The history of Oregon’s ski areas includes over 35 “Lost” ski areas
 .  Bend resident Steve Stenkamp will tell the stories behind places like 
 Little Alps\, Crescent Lake\, Tomahawk\, Oregon Trail and many more.\n\nPr
 ogram flier\n\n
CATEGORIES:Meeting
END:VEVENT
BEGIN:VTIMEZONE
TZID:America/Los_Angeles
X-LIC-LOCATION:America/Los_Angeles
BEGIN:DAYLIGHT
DTSTART:20210314T030000
TZOFFSETFROM:-0800
TZOFFSETTO:-0700
TZNAME:PDT
END:DAYLIGHT
END:VTIMEZONE
END:VCALENDAR