BEGIN:VCALENDAR
VERSION:2.0
PRODID:-//wp-events-plugin.com//7.0.5//EN
TZID:America/Los_Angeles
X-WR-TIMEZONE:America/Los_Angeles
BEGIN:VEVENT
UID:114@onc-pdx.org
DTSTART;TZID=America/Los_Angeles;VALUE=DATE:20160120
DTEND;TZID=America/Los_Angeles;VALUE=DATE:20160126
DTSTAMP:20151014T143150Z
URL:https://onc-pdx.org/events/anthony-lakes/
SUMMARY:Anthony Lakes
DESCRIPTION:Jan 20- 25\, Wed-MonAll ability skiCome join in a chance to ski
  the powder of the Elkhorn Mountains west of Baker City\, Oregon. We will 
 plan on carpooling over on Wednesday January 20 and stay at the Good Bear 
 Ranch House on a 250 acre property on the edge of the National Forest. The
  house is at 4500 feet of elevation so if we are lucky we might be able to
  ski at the house. Most days we will drive to Anthony Lakes Ski Area ( bas
 e elevation 7100 ft) a 20 mile\, 45 minute drive. The resort offers 30 km 
 of groomed double track and 11 km of single track trail skiing. I am plann
 ing on several day tours of backcountry skiing in some of the adjoining va
 lleys leaving from Anthony Lakes. Anthony lakes has a day lodge built by t
 he CCC with food and drink available. For those interested in lift skiing 
 it offers 1100 acres served by one lift. The Good Bear Ranch House has eve
 rything you could want in a deluxe winter cabin. It is a log house ( 5200 
 sq ft) with 7 bedrooms and 3 baths with two floor-to-ceiling stone firepla
 ces with dining table for 14 people. We will share responsibilities for 4 
 dinners. Bring your own breakfast and lunch. I am planning on one evening 
 going to Baker City (14 miles) for dinner and the night life of Eastern Or
 egon. We will return to Portland on Monday\, January 25.Limit: 10 lucky pe
 ople\, including the leaderCost: $300 per person\, includes five nights lo
 dging.&nbsp\;Sign up at the Overnight Trip Extravaganza in October. Afterw
 ards\, you may sign-up on the ONC-PDX website or send your overnight tour 
 application and a check for $300 payable to ONC-Portland Chapter\, to the 
 trip leader\, Ken Wenzel. Contact Ken at skiwenzel@hotmail.com or phone 50
 3-297-2958
CATEGORIES:Backcountry Ski/Telemarking,Cross Country Ski,Skate Ski
LOCATION:\, \, 
X-APPLE-STRUCTURED-LOCATION;VALUE=URI;X-ADDRESS=\, ;X-APPLE-RADIUS=100;X-TI
 TLE=:geo:0,0
END:VEVENT
BEGIN:VTIMEZONE
TZID:America/Los_Angeles
X-LIC-LOCATION:America/Los_Angeles
BEGIN:STANDARD
DTSTART:20151101T010000
TZOFFSETFROM:-0700
TZOFFSETTO:-0800
TZNAME:PST
END:STANDARD
END:VTIMEZONE
END:VCALENDAR