BEGIN:VCALENDAR
VERSION:2.0
PRODID:-//wp-events-plugin.com//7.0.5//EN
TZID:America/Los_Angeles
X-WR-TIMEZONE:America/Los_Angeles
BEGIN:VEVENT
UID:781@onc-pdx.org
DTSTART;TZID=America/Los_Angeles;VALUE=DATE:20210120
DTEND;TZID=America/Los_Angeles;VALUE=DATE:20210125
DTSTAMP:20210106T044526Z
URL:https://onc-pdx.org/events/anthony-lakes-and-horseshoe-prairie-area/
SUMMARY:Anthony Lakes and Horseshoe Prairie Area
DESCRIPTION:La Grande\, OR\nJan. 20 - 24\, Wed - Sun\nAll Abilities with ma
 ny options\n\nWednesday we will drive on I-84 to Meacham Divide and do som
 e Trail Skiing on our way to La Grande\, OR. This is a COVID-19 reduced ri
 sk trip so everyone will decide on their own car options and book their ow
 n motel room. We will be staying at the Super 8 Motel in La Grande.&nbsp\;
  Rooms are about $75-$88 per night plus taxes\, 1 and 2 beds available. &n
 bsp\; Food will be on your own\, (restaurant\, take out or microwave at ho
 tel).&nbsp\;\n\nThursday we will drive to Anthony Lakes and we can break u
 p into groups of like interest\, (Track\, Tour\, Backcountry or Lift). Lun
 ch will be at the lodge or car or on trail. Friday is a repeat of Thursday
 .&nbsp\; Saturday we will drive to Horseshoe Prairie and trail ski the net
 work of trails and roads in the area of open pine forest and meadows. Sund
 ay we will return to this area and try to ski at the Spout Springs Ski Are
 a ( backcountry)\, Horseshoe Prairie (trail ski)\, or Meacham Divide depen
 ding on skier’s choice\, and then drive home.&nbsp\;\n\nPlease research 
 the COVID Bubble concept if thinking of sharing rooms and cars.&nbsp\; Sno
 -Park permit required at ski areas.\n\nTrip limit:&nbsp\; 14 participants 
 max. including the trip leader\, but flexible.\nCost:&nbsp\; $10/member re
 gistration on ONC-PDX website.&nbsp\; Does not include 4&nbsp\; nights lod
 ging\, transportation\, trail fees\, meals.&nbsp\; Pay the registration fe
 e and then book your room and pay the hotel directly.\nTravel miles:&nbsp\
 ; 600 miles roundtrip from Portland plus travel to trailheads.\nTrip leade
 r:&nbsp\; Ken Wenzel\, skiwenzel@hotmail.com
CATEGORIES:Cross Country Ski
END:VEVENT
BEGIN:VTIMEZONE
TZID:America/Los_Angeles
X-LIC-LOCATION:America/Los_Angeles
BEGIN:STANDARD
DTSTART:20201101T010000
TZOFFSETFROM:-0700
TZOFFSETTO:-0800
TZNAME:PST
END:STANDARD
END:VTIMEZONE
END:VCALENDAR