BEGIN:VCALENDAR
VERSION:2.0
PRODID:-//wp-events-plugin.com//7.0.5//EN
TZID:America/Los_Angeles
X-WR-TIMEZONE:America/Los_Angeles
BEGIN:VEVENT
UID:950@onc-pdx.org
DTSTART;TZID=America/Los_Angeles;VALUE=DATE:20230125
DTEND;TZID=America/Los_Angeles;VALUE=DATE:20230130
DTSTAMP:20230105T210458Z
URL:https://onc-pdx.org/events/anthony-lakes-4/
SUMMARY:Anthony Lakes
DESCRIPTION:Baker City\, OR\nJan. 25-29\, Wed-Sun\nAll Abilities Ski\n\nThi
 s is a really awesome trip for all levels of skiers. With 300 inches of an
 nual snowfall\, the Anthony Lakes Ski Area near Baker City boasts the best
  powder skiing in the Northwest. Both downhill and Nordic skiers come to e
 njoy this breathtaking location at the north end of the Elkhorn Mountains.
 &nbsp\;\n\nThe Nordic center (6\,000 ft.) maintains 18 miles (30 km) of gr
 oomed trails with every level of difficulty. There’s also easy access to
  backcountry areas near the center\, often by starting at the top of the s
 ki lift (7\,200 ft.). Another skiing possibility is Dooley Pass south of B
 aker City\, showcasing panoramic views of the valleys below. Depending on 
 time and weather\, we could stop and ski the groomed trails on our way to 
 Baker at Meacham Divide just west of La Grande.&nbsp\;\n\nWe will be stayi
 ng at The Wunder House and the Cottage in Baker City\, making it an hour d
 rive to Anthony Lakes. The highlights of the house and cottage are a hot t
 ub\, sauna\, and a massage chair to pamper those tender muscles after a fu
 n-filled day of skiing! There is also a covered outdoor seating area with 
 gas fireplaces. In the main house there is 3\,400 sq ft. to relax and soci
 alize in with five bedrooms and three baths. In the Cottage there is a que
 en double and two single beds with a full kitchen and bathroom.\n\nBreakfa
 st and lunches will be on your own\, but we’ll share nightly potlucks.&n
 bsp\;\n\nHere are some photos from a past trip\, click here.\n\nTrip limit
 :&nbsp\; 14 participants including trip leaders\nCost: $245/member\, per p
 erson.&nbsp\; Includes 4 nights lodging.&nbsp\; Daily trail passes for the
  Nordic trails are $20 ages 19-69. 70 and over are free! Snowshoe pass $20
 . Daily lift tickets for downhill or to gain easy access to the backcountr
 y are $45. The house does offer discount vouchers for daily 10 percent dis
 counts on pass. Excludes cost of travel and meals.&nbsp\;&nbsp\;\nCarpool 
 miles:&nbsp\; 610 miles round trip from Portland plus excursions to trailh
 eads.\nTrip leader: &nbsp\; Johanna Lovell\, joeielove@yahoo.com\nCo-leade
 r: Grace Lovell\, gracemlove88@gmail.com
CATEGORIES:Cross Country Ski,Skate Ski,Snowshoe
END:VEVENT
BEGIN:VTIMEZONE
TZID:America/Los_Angeles
X-LIC-LOCATION:America/Los_Angeles
BEGIN:STANDARD
DTSTART:20221106T010000
TZOFFSETFROM:-0700
TZOFFSETTO:-0800
TZNAME:PST
END:STANDARD
END:VTIMEZONE
END:VCALENDAR