BEGIN:VCALENDAR
VERSION:2.0
PRODID:-//wp-events-plugin.com//7.0.5//EN
TZID:America/Los_Angeles
X-WR-TIMEZONE:America/Los_Angeles
BEGIN:VEVENT
UID:1278@onc-pdx.org
DTSTART;TZID=America/Los_Angeles;VALUE=DATE:20260115
DTEND;TZID=America/Los_Angeles;VALUE=DATE:20260120
DTSTAMP:20260101T142042Z
URL:https://onc-pdx.org/events/anthony-lakes-2026/
SUMMARY:Anthony Lakes MLK Weekend
DESCRIPTION:Baker City\nJanuary 15 - 19\, 2026\, Thu-Mon\nIntermediate Leve
 l\n\nSki Oregon’s Best!   Anthony Lakes offers nearly 20 miles of groom
 ed XC trails\, plenty of ungroomed\, backcountry terrain\, and what may be
  the least expensive alpine ski area in the state.\n\nWith a 7100 foot bas
 e elevation\, Anthony Lakes has some of the earliest\, lightest and most c
 onsistent snow in Oregon. It’s a smallish\, community-owned ski area\, h
 igh on quality skiing and low on pretension.\n\nWe’ll spend four nights
   in a large house about 5 miles north of Baker City. The house has a ful
 ly equipped kitchen\, five bedrooms and 1.5 baths\, and beautiful views of
  the Elkhorn Mountains.  The wintertime night skies in eastern Oregon are
  generally clear and gorgeous.\n\nWe will enjoy a variety of skiing opport
 unities.  The alpine and Nordic areas are next to each other\, so group m
 embers will be able to choose either.  One day will also be spent explori
 ng the backcountry\, and if that's not for you\, the groomed trails and al
 pine options are always available.  If you want to ski backcountry\, make
  sure you have skills to turn and stop in powder terrain\, sometimes amid 
 trees.  Metal edged skis and off-trail experience are essential.\n\nTrip 
 limit:  8 participants\nCost:  $285 per person\, including 4 nights lodg
 ing and 4 breakfasts\, coffee and tea.  Excludes cost of travel and share
 d meals.\nTravel miles:  From Portland\, 600 miles round trip\, plus mile
 age to the ski areas\nTrip Leader:  Donna Wiench\, dwiench@gmail.com
CATEGORIES:Backcountry Ski/Telemarking,Cross Country Ski,Skate Ski
END:VEVENT
BEGIN:VTIMEZONE
TZID:America/Los_Angeles
X-LIC-LOCATION:America/Los_Angeles
BEGIN:STANDARD
DTSTART:20251102T010000
TZOFFSETFROM:-0700
TZOFFSETTO:-0800
TZNAME:PST
END:STANDARD
END:VTIMEZONE
END:VCALENDAR