BEGIN:VCALENDAR
VERSION:2.0
PRODID:-//wp-events-plugin.com//7.0.5//EN
TZID:America/Los_Angeles
X-WR-TIMEZONE:America/Los_Angeles
BEGIN:VEVENT
UID:942@onc-pdx.org
DTSTART;TZID=America/Los_Angeles:20220719T180000
DTEND;TZID=America/Los_Angeles:20220719T210000
DTSTAMP:20220627T212259Z
URL:https://onc-pdx.org/events/annual-picnic-e-side-mt-tabor/
SUMMARY:Annual Picnic - E. Side Mt Tabor
DESCRIPTION:Join us at our Annual ONC Picnic!\nWhen:  Tuesday\, July 19th 
 6-9 PM\nWhere:  East side of Mt Tabor Park (same as last year) - see map 
 below\nDirections: From SE Belmont make a right at SE 69th\, take the firs
 t left upon entering the park\; the picnic area is on the left a short dis
 tance up the road. Please see the map below.\nWhat: Come for an evening of
  outdoor enjoyment with fellow ONC club members.  Reminisce about favorit
 e ski experiences and learn about more fun to come in the upcoming ski sea
 son.\nMeet our new Membership Committee and category leads who are re-ene
 rgizing the ONC!  Bring family and friends.  We'll have some lawn games 
 and prizes for a few lucky folks.\nPark Rules (Required for our license):
 \nNo loud music\nNo sharing of alcoholic beverages\nWell behaved dogs on l
 eash are welcome\nAll trash and recycling must be removed from the park--i
 f you bring it\, plan to take it home.\nBring your favorite potluck dish 
 to share or your own dinner to enjoy in the shady picnic area.\n\nWe hope 
 to see you there!\n\n\n\n
END:VEVENT
BEGIN:VTIMEZONE
TZID:America/Los_Angeles
X-LIC-LOCATION:America/Los_Angeles
BEGIN:DAYLIGHT
DTSTART:20220313T030000
TZOFFSETFROM:-0800
TZOFFSETTO:-0700
TZNAME:PDT
END:DAYLIGHT
END:VTIMEZONE
END:VCALENDAR