BEGIN:VCALENDAR
VERSION:2.0
PRODID:-//wp-events-plugin.com//7.0.5//EN
TZID:America/Los_Angeles
X-WR-TIMEZONE:America/Los_Angeles
BEGIN:VEVENT
UID:776@onc-pdx.org
DTSTART;TZID=America/Los_Angeles:20200901T180000
DTEND;TZID=America/Los_Angeles:20200901T200000
DTSTAMP:20200827T174144Z
URL:https://onc-pdx.org/events/annual-picnic-4/
SUMMARY:Annual Picnic
DESCRIPTION:Come join us for the ONC Annual Picnic with your fellow club me
 mbers\nCovid-19 club rules: No shared food or drinks. Everyone brings thei
 r own food and drinks.Bring a folding chair and plan to sit in a circle on
  the grass\, well away from others. People from the same household can sit
  at a table if they prefer.Bring a mask\, and plan to wear it when not eat
 ing\, especially if you are within six feet of others.All garbage\, includ
 ing recycling\, must be carried off site. Please bring a bag and plan to t
 ake out what ever you bring in as well as any plates\, cups or silverware 
 you use.Thank you for your help in following these rules.\nWe want to keep
  this a tradition for many years to come!Download the flier here.
LOCATION:Laurelhurst Park\, 3900 SE Ankeny\, Portland\, OR\, United States
GEO:45.52277309999999;-122.62299330000002
X-APPLE-STRUCTURED-LOCATION;VALUE=URI;X-ADDRESS=3900 SE Ankeny\, Portland\,
  OR\, United States;X-APPLE-RADIUS=100;X-TITLE=Laurelhurst Park:geo:45.522
 77309999999,-122.62299330000002
END:VEVENT
BEGIN:VTIMEZONE
TZID:America/Los_Angeles
X-LIC-LOCATION:America/Los_Angeles
BEGIN:DAYLIGHT
DTSTART:20200308T030000
TZOFFSETFROM:-0800
TZOFFSETTO:-0700
TZNAME:PDT
END:DAYLIGHT
END:VTIMEZONE
END:VCALENDAR