BEGIN:VCALENDAR
VERSION:2.0
PRODID:-//wp-events-plugin.com//7.0.5//EN
TZID:America/Los_Angeles
X-WR-TIMEZONE:America/Los_Angeles
BEGIN:VEVENT
UID:1241@onc-pdx.org
DTSTART;TZID=America/Los_Angeles:20250708T180000
DTEND;TZID=America/Los_Angeles:20250708T200000
DTSTAMP:20250425T231238Z
URL:https://onc-pdx.org/events/annual-onc-pdx-picnic-tue-july-8/
SUMMARY:Annual ONC-PDX Picnic - Tue.\, July 8
DESCRIPTION:Come celebrate our fantastic 2024-2025 ski season at the Annual
  ONC-PDX Picnic! Please feel free to invite friends\, family\, or potentia
 l future members!\n\nThe picnic is at Laurelhurst Park this year (same as 
 last year). Park on SE Ankeny Street (see below for details).\n\nDate: Tue
 sday\, July 8\, 2025\nTime: 6pm to 8pm\nLocation: Laurelhurst Park Picnic 
 Site E\, 3900 SE Ankeny Street (at the north end of the park\, just east o
 f the restrooms)\n\nBring your own beverage\, plate\, silverware\, a potlu
 ck dish to share\, a sack to take trash home and a chair if you want a bac
 krest. Also\, bring some great stories from this year's ski trips to share
  with fellow club members.\n\nImportant City Rules that we must follow to 
 keep having events like this:\n\nAll picnic garbage must be carried away f
 rom the park. If some of you who have a place for it can bring large plast
 ic bags\, it will be much appreciated! No trash is to be placed in any tra
 sh bin in the park.\nAlcohol BYOB but not shared: You can bring your own b
 eer or wine\, but you cannot share it. No kegs permitted. We do not have a
 n alcohol permit\, which costs a lot more!\nNo music or amplified voices a
 re permitted. We do not have a sound permit.\nThis event is invite only. I
 t cannot be advertised to the public. Please do not advertise it on any pu
 blic sites. You are welcome to give a personal invitation to family or fri
 ends.\nWell-behaved dogs on leash are welcome to attend with their owners.
 \n\nWe hope to see you there!\n\n    
CATEGORIES:Meeting
LOCATION:Laurelhurst Park\, 3900 SE Ankeny\, Portland\, OR\, United States
GEO:45.52277309999999;-122.62299330000002
X-APPLE-STRUCTURED-LOCATION;VALUE=URI;X-ADDRESS=3900 SE Ankeny\, Portland\,
  OR\, United States;X-APPLE-RADIUS=100;X-TITLE=Laurelhurst Park:geo:45.522
 77309999999,-122.62299330000002
END:VEVENT
BEGIN:VTIMEZONE
TZID:America/Los_Angeles
X-LIC-LOCATION:America/Los_Angeles
BEGIN:DAYLIGHT
DTSTART:20250309T030000
TZOFFSETFROM:-0800
TZOFFSETTO:-0700
TZNAME:PDT
END:DAYLIGHT
END:VTIMEZONE
END:VCALENDAR