BEGIN:VCALENDAR
VERSION:2.0
PRODID:-//wp-events-plugin.com//7.0.5//EN
TZID:America/Los_Angeles
X-WR-TIMEZONE:America/Los_Angeles
BEGIN:VEVENT
UID:93@onc-pdx.org
DTSTART;TZID=America/Los_Angeles:20150707T180000
DTEND;TZID=America/Los_Angeles:20150707T210000
DTSTAMP:20150618T235946Z
URL:https://onc-pdx.org/events/annual-club-picnic/
SUMMARY:Annual Club Picnic
DESCRIPTION:FlyerPicnic site E near rest rooms along SE Ankeny St. See flye
 r for map.
LOCATION:Laurelhurst Park\, 3900 SE Ankeny\, Portland\, OR\, United States
GEO:45.52277309999999;-122.62299330000002
X-APPLE-STRUCTURED-LOCATION;VALUE=URI;X-ADDRESS=3900 SE Ankeny\, Portland\,
  OR\, United States;X-APPLE-RADIUS=100;X-TITLE=Laurelhurst Park:geo:45.522
 77309999999,-122.62299330000002
END:VEVENT
BEGIN:VTIMEZONE
TZID:America/Los_Angeles
X-LIC-LOCATION:America/Los_Angeles
BEGIN:DAYLIGHT
DTSTART:20150308T030000
TZOFFSETFROM:-0800
TZOFFSETTO:-0700
TZNAME:PDT
END:DAYLIGHT
END:VTIMEZONE
END:VCALENDAR