BEGIN:VCALENDAR
VERSION:2.0
PRODID:-//wp-events-plugin.com//7.0.5//EN
TZID:America/Los_Angeles
X-WR-TIMEZONE:America/Los_Angeles
BEGIN:VEVENT
UID:1258@onc-pdx.org
DTSTART;TZID=America/Los_Angeles;VALUE=DATE:20260116
DTEND;TZID=America/Los_Angeles;VALUE=DATE:20260120
DTSTAMP:20260105T095952Z
URL:https://onc-pdx.org/events/alpine-lakes-high-camp-2026/
SUMMARY:Alpine Lakes High Camp Backcountry Adventure
DESCRIPTION:Alpine Lakes\, WA\nJan. 16 - 19\, 2026\, Fri-Mon\nIntermediate 
 and Advanced - Ungroomed Backcountry\n\nReady for the perfect blend of bac
 kcountry adventure and rustic comfort? Join us 9 miles deep in the Washing
 ton wilderness at Alpine Lakes High Camp\, where warm cabins\, a sauna\, a
 nd cold plunge await after your days on pristine snow! Take this 2-minute 
 video tour to see what's in store. We will all bring our own food and enjo
 y the ONC potluck dinner tradition. Kitchen cooking amenities are provided
  in each cabin.\n\nWhat's Included:\n\n 	3 nights in cozy Foxfire\, Lupine
 \, and Trillium cabins\n 	Transportation onto the property from their lot\
 n 	Option to ski out on the final day\n\nThe Terrain: These scenic\, marke
 d trails offer incredible variety - from gentle touring routes to challeng
 ing off-trail slopes for backcountry Nordic\, Telemarking\, AT skiing\, or
  snowboarding. Create your own loops using their detailed topographical ma
 ps\, or venture into the Alpine Lakes Wilderness to more demanding terrain
 . Map and info is available HERE.\n\nDaily Adventures - Choose Your Level:
 \n\n 	Intermediate Group: Explore Nordic tours in non-avalanche terrain\n 
 	Advanced Group: Access high-alpine tours based on current avalanche condi
 tions\, including all-day High Meadows expeditions or half-day McCue Ridge
  glade runs\n\nSAFETY REQUIREMENTS- Please Read Carefully: This trip is NO
 T suitable for beginners. Participants need intermediate Nordic or AT skil
 ls with some backcountry experience. Advanced skiers are strongly encourag
 ed.\n\nFor avalanche terrain access\, you MUST:\n\n 	Bring complete avalan
 che safety gear (beacon\, probe\, shovel)\n 	Have AIARE 1 certification or
  equivalent training\n 	Demonstrate recent transceiver practice\n 	Commit 
 to staying with your group and following all safety protocols\n\nThe Grand
  Finale: We have the option to ski back to our cars on the final day! Choo
 se from three routes down to the parking lot\, including the popular 8.5-m
 ile road descent - a long\, scenic cruise with just one short climb.\n\nLo
 gistics: Arrive independently by 9:30am January 16 (optional carpools may 
 be arranged). Group hotel block available January 15.\nIf you have any que
 stions about whether this is the trip for you - please contact the trip le
 ader.\n\nTrip limit:  15 participants including trip leaders\nCost:  $59
 5/member\, per person for 3 nights lodging. Meals and carpool additional.\
 nTravel miles:  From Portland\, 550 miles round trip\nTrip Leader: Michel
 e Barnett\, michele.barnett@gmail.com\nCo-Leader: Lindsey Addison\, lindse
 y.addison@gmail.com
CATEGORIES:Backcountry Ski/Telemarking,Cross Country Ski
END:VEVENT
BEGIN:VTIMEZONE
TZID:America/Los_Angeles
X-LIC-LOCATION:America/Los_Angeles
BEGIN:STANDARD
DTSTART:20251102T010000
TZOFFSETFROM:-0700
TZOFFSETTO:-0800
TZNAME:PST
END:STANDARD
END:VTIMEZONE
END:VCALENDAR